BEGIN:VCALENDAR
VERSION:2.0
PRODID:-//Heimatverein Emstek e.V. - ECPv6.15.18//NONSGML v1.0//EN
CALSCALE:GREGORIAN
METHOD:PUBLISH
X-ORIGINAL-URL:https://www.heimatverein-emstek.de
X-WR-CALDESC:Veranstaltungen für Heimatverein Emstek e.V.
REFRESH-INTERVAL;VALUE=DURATION:PT1H
X-Robots-Tag:noindex
X-PUBLISHED-TTL:PT1H
BEGIN:VTIMEZONE
TZID:Europe/Berlin
BEGIN:DAYLIGHT
TZOFFSETFROM:+0100
TZOFFSETTO:+0200
TZNAME:CEST
DTSTART:20250330T010000
END:DAYLIGHT
BEGIN:STANDARD
TZOFFSETFROM:+0200
TZOFFSETTO:+0100
TZNAME:CET
DTSTART:20251026T010000
END:STANDARD
BEGIN:DAYLIGHT
TZOFFSETFROM:+0100
TZOFFSETTO:+0200
TZNAME:CEST
DTSTART:20260329T010000
END:DAYLIGHT
BEGIN:STANDARD
TZOFFSETFROM:+0200
TZOFFSETTO:+0100
TZNAME:CET
DTSTART:20261025T010000
END:STANDARD
BEGIN:DAYLIGHT
TZOFFSETFROM:+0100
TZOFFSETTO:+0200
TZNAME:CEST
DTSTART:20270328T010000
END:DAYLIGHT
BEGIN:STANDARD
TZOFFSETFROM:+0200
TZOFFSETTO:+0100
TZNAME:CET
DTSTART:20271031T010000
END:STANDARD
END:VTIMEZONE
BEGIN:VEVENT
DTSTART;TZID=Europe/Berlin:20260310T200000
DTEND;TZID=Europe/Berlin:20260310T200000
DTSTAMP:20260423T220606
CREATED:20260307T151356Z
LAST-MODIFIED:20260307T151356Z
UID:1481-1773172800-1773172800@www.heimatverein-emstek.de
SUMMARY:Generalversammlung
DESCRIPTION:
URL:https://www.heimatverein-emstek.de/event/generalversammlung/
LOCATION:Gemeinschaftsraum des Seniorenzentrums St. Margaretha\, Antoniusstraße 30\, Emstek\, 49685
END:VEVENT
BEGIN:VEVENT
DTSTART;TZID=Europe/Berlin:20260314T090000
DTEND;TZID=Europe/Berlin:20260314T090000
DTSTAMP:20260423T220606
CREATED:20260309T145041Z
LAST-MODIFIED:20260309T145525Z
UID:1901-1773478800-1773478800@www.heimatverein-emstek.de
SUMMARY:Umwelttag 2026
DESCRIPTION:Jedes Jahr im März findet in der Gemeinde Emstek ein Umwelttag statt\, der von den Heimatvereinen in der Gemeinde und dem Hegering Emstek durchgeführt wird. \nPositiv ist\, dass man in den vergangenen Jahren weniger Müll einsammeln musste als noch vor etwa 10 Jahren. Negativ bleibt festzuhalten\, dass immer noch viel zu viel Müll unbedacht oder auch geplant illegal in der Natur entsorgt wird. \nAm Samstag\, den 14. März 2026\, ist es wieder soweit: in der gesamten Gemeinde Emstek ist Umwelttag. Alle Bürger\, Groß und Klein sind eingeladen mitzuhelfen\, um öffentliche Flächen und Straßenbermen von Müll und Unrat zu befreien. Es werden viele Hände gerbraucht\, um die Flächen in und um Emstek herum abzusuchen und vom Müll zu befreien.    \nIn der Gemeinde Emstek wird dieser Umwelttag in den einzelnen Bauerschaften unterschiedlich organisiert. Wer mehr darüber wissen möchte\, was in seinem Heimatort läuft\, der kann mehr Informationen bei seinem Heimatverein vor Ort erhalten. \nIm Emstek selbst treffen sich die freiwilligen Helfer am Samstagmorgen\, den 14.03.2026\, um 09.00 Uhr auf dem Gelände der Firma Josef Mählmann an der Halener Straße 25. Dort werden Sammelgruppen zusammengestellt\, Sammelgebiete verteilt und Mülltüten ausgegeben. Helfer sollten auf jeden Fall wetterfest gekleidet sein\, Arbeitshandschuhe tragen und ggf. Eimer oder auch Greifzangen zum Müllsammeln mitbringen. \nAuf dem Gelände der Firma Mählmann kann dann auch in der Zeit von 10.30 Uhr bis 12.30 Uhr der Müll abgegeben werden\, der einer fachgerechten Entsorgung zugeführt wird. \nWie in jedem Jahr sind auch die Jäger in der Gemeinde Emstek an diesem Tag  aktiv\, um Müll und Unrat in den Jagdrevieren einzusammeln. Denn vor allem Plastikmüll ist eine große Gefahr für die heimische Flora und Fauna. \nDer Dank der Organisatoren gilt wie in jedem Jahr der Gemeinde Emstek und insbesondere den Mitarbeitern des Bauhofes für die Unterstützung an diesem Tag. \nIn Emstek endet der Umwelttag traditionell gegen 12.30 Uhr mit einem gemeinsamen Erbsensuppenessen und der Verlosung eines Präsentkorbes unter allen Helfern in der Alten EVG an der Margarethenstraße.   \nDer Heimatverein Emstek hofft auf viele freiwillige Helfer an diesem Samstagmorgen. Nur gemeinsam kann man dem Müll Herr werden. Eine Aktion für die Umwelt\, für unsere Heimat\, für uns alle!
URL:https://www.heimatverein-emstek.de/event/umwelttag-2026/
LOCATION:Firma Mählmann\, Halener Straße 25\, Emstek\, 49685
END:VEVENT
END:VCALENDAR