BEGIN:VCALENDAR
VERSION:2.0
PRODID:-//Heimatverein Emstek e.V. - ECPv6.15.18//NONSGML v1.0//EN
CALSCALE:GREGORIAN
METHOD:PUBLISH
X-ORIGINAL-URL:https://www.heimatverein-emstek.de
X-WR-CALDESC:Veranstaltungen für Heimatverein Emstek e.V.
REFRESH-INTERVAL;VALUE=DURATION:PT1H
X-Robots-Tag:noindex
X-PUBLISHED-TTL:PT1H
BEGIN:VTIMEZONE
TZID:Europe/Berlin
BEGIN:DAYLIGHT
TZOFFSETFROM:+0100
TZOFFSETTO:+0200
TZNAME:CEST
DTSTART:20250330T010000
END:DAYLIGHT
BEGIN:STANDARD
TZOFFSETFROM:+0200
TZOFFSETTO:+0100
TZNAME:CET
DTSTART:20251026T010000
END:STANDARD
BEGIN:DAYLIGHT
TZOFFSETFROM:+0100
TZOFFSETTO:+0200
TZNAME:CEST
DTSTART:20260329T010000
END:DAYLIGHT
BEGIN:STANDARD
TZOFFSETFROM:+0200
TZOFFSETTO:+0100
TZNAME:CET
DTSTART:20261025T010000
END:STANDARD
BEGIN:DAYLIGHT
TZOFFSETFROM:+0100
TZOFFSETTO:+0200
TZNAME:CEST
DTSTART:20270328T010000
END:DAYLIGHT
BEGIN:STANDARD
TZOFFSETFROM:+0200
TZOFFSETTO:+0100
TZNAME:CET
DTSTART:20271031T010000
END:STANDARD
END:VTIMEZONE
BEGIN:VEVENT
DTSTART;TZID=Europe/Berlin:20260503T143000
DTEND;TZID=Europe/Berlin:20260503T143000
DTSTAMP:20260423T201101
CREATED:20260407T135946Z
LAST-MODIFIED:20260407T140653Z
UID:1954-1777818600-1777818600@www.heimatverein-emstek.de
SUMMARY:DER BRAVO Starschnitt
DESCRIPTION:Ausstellung im Museumdorf Cloppenburg\nNoch bis Oktober ist im Museumsdorf die Ausstellung der „DER BRAVO Starschnitt“ zu sehen. Wie schon bei anderen Ausstellungen bieten wir an\, uns diese Ausstellung unter fachkundiger Führung gemeinsam anzusehen. Der Besuch der Ausstellung soll am Sonntag\, den 03. Mai 2026\, stattfinden und wird um 14.30 Uhr starten. Treffpunkt ist der Eingangsbereich (Museumsladen) des Museumsdorfes an der Bether Straße. Bei gutem Wetter bieten wir auch eine gemeinsame Anreise mit dem Fahrrad an. Treffpunkt dafür ist um 13.30 Uhr der Marktplatz in Emstek. \nAnmeldungen für den Ausstellungsbesuch nehmen telefonisch Werner Schleifer (Tel. 2515) und Markus Meckelnborg (Tel. 1232) entgegen. Alternativ kann eine Anmeldung auch per Mail erfolgen: info@heimatverein-emstek.de. \nWas erwartet uns? Hier ein kurzer Auszug aus der Information des Museumsdorfes: \nWas haben Brigitte Bardot\, die deutsche Nationalelf von 1974\, ABBA und Winnetou gemein? Alle haben es – wie 95 andere Stars aus Musik\, Film und Sport – auf einen BRAVO-Starschnitt geschafft. Wer seine Jugend von den 1960er bis in die 2010er Jahre verlebte\, kennt sie\, die großformatigen Poster\, auf denen die Idole junger Menschen lebensgroß Einzug in zahllose Jugendzimmer hielten. Was als findiger Marketingkniff Leserbindung und Auflage der legendären Jugendzeitschrift BRAVO erhöhen sollte\, dokumentiert heute Zeitgeist\, Lebensgefühl und Ästhetik mehrerer Generationen von Jugendlichen.
URL:https://www.heimatverein-emstek.de/event/der-bravo-starschnitt-ausstellung-im-museumdorf-cloppenburg/
END:VEVENT
END:VCALENDAR